BEGIN:VCALENDAR
VERSION:2.0
PRODID:-//Saturday Strollers - ECPv4.2.6//NONSGML v1.0//EN
CALSCALE:GREGORIAN
METHOD:PUBLISH
X-WR-CALNAME:Saturday Strollers
X-ORIGINAL-URL:http://saturdaystrollers.ie
X-WR-CALDESC:Events for Saturday Strollers
BEGIN:VEVENT
DTSTART;TZID=UTC+0:20200808T114000
DTEND;TZID=UTC+0:20200808T152000
DTSTAMP:20260424T215326
CREATED:20200730T175823
LAST-MODIFIED:20200730T180416
UID:3709-1596886800-1596900000@saturdaystrollers.ie
SUMMARY:8/8/2020 - Single Stableford - Golfer of the Year (4)
DESCRIPTION:
URL:http://saturdaystrollers.ie/event/882020-single-stableford-golfer-of-the-year-4/
END:VEVENT
END:VCALENDAR