BEGIN:VCALENDAR
VERSION:2.0
PRODID:-//Saturday Strollers - ECPv4.2.6//NONSGML v1.0//EN
CALSCALE:GREGORIAN
METHOD:PUBLISH
X-WR-CALNAME:Saturday Strollers
X-ORIGINAL-URL:http://saturdaystrollers.ie
X-WR-CALDESC:Events for Saturday Strollers
BEGIN:VEVENT
DTSTART;TZID=UTC+0:20171116T193000
DTEND;TZID=UTC+0:20171116T203000
DTSTAMP:20260424T145320
CREATED:20160108T214239
LAST-MODIFIED:20161229T000145
UID:272-1510860600-1510864200@saturdaystrollers.ie
SUMMARY:AGM - Leopardstown Green Room (Thursday)
DESCRIPTION:
URL:http://saturdaystrollers.ie/event/agm-leopardstown-green-room-thursday/
END:VEVENT
END:VCALENDAR