BEGIN:VCALENDAR
VERSION:2.0
PRODID:-//Saturday Strollers - ECPv4.2.6//NONSGML v1.0//EN
CALSCALE:GREGORIAN
METHOD:PUBLISH
X-WR-CALNAME:Saturday Strollers
X-ORIGINAL-URL:http://saturdaystrollers.ie
X-WR-CALDESC:Events for Saturday Strollers
BEGIN:VEVENT
DTSTART;TZID=UTC+0:20220923T010000
DTEND;TZID=UTC+0:20220930T000000
DTSTAMP:20260424T174856
CREATED:20220112T114916
LAST-MODIFIED:20220112T114916
UID:4181-1663894800-1664496000@saturdaystrollers.ie
SUMMARY:Away Trip
DESCRIPTION:
URL:http://saturdaystrollers.ie/event/away-trip/
END:VEVENT
END:VCALENDAR