BEGIN:VCALENDAR
VERSION:2.0
PRODID:-//Saturday Strollers - ECPv4.2.6//NONSGML v1.0//EN
CALSCALE:GREGORIAN
METHOD:PUBLISH
X-WR-CALNAME:Saturday Strollers
X-ORIGINAL-URL:http://saturdaystrollers.ie
X-WR-CALDESC:Events for Saturday Strollers
BEGIN:VEVENT
DTSTART;TZID=UTC+0:20220924T110000
DTEND;TZID=UTC+0:20220924T160000
DTSTAMP:20260424T175425
CREATED:20220112T113959
LAST-MODIFIED:20220112T113959
UID:4151-1664017200-1664035200@saturdaystrollers.ie
SUMMARY:Back Nine
DESCRIPTION:
URL:http://saturdaystrollers.ie/event/back-nine-2/
END:VEVENT
END:VCALENDAR