BEGIN:VCALENDAR
VERSION:2.0
PRODID:-//Saturday Strollers - ECPv4.2.6//NONSGML v1.0//EN
CALSCALE:GREGORIAN
METHOD:PUBLISH
X-WR-CALNAME:Saturday Strollers
X-ORIGINAL-URL:http://saturdaystrollers.ie
X-WR-CALDESC:Events for Saturday Strollers
BEGIN:VEVENT
DTSTART;TZID=UTC+0:20190615T110000
DTEND;TZID=UTC+0:20190615T170000
DTSTAMP:20260425T022830
CREATED:20190519T154458
LAST-MODIFIED:20190520T094744
UID:2784-1560596400-1560618000@saturdaystrollers.ie
SUMMARY:Captain's Day 15th June 2019
DESCRIPTION:Saturday 15th June 2019 is our next big event and fast approaching. it will be a 18 and 9 hole competition and hope as many as possible will play the 18 hole competition.   We will be dining in The Nation Yacht Club in Dun Laoghaire.The entry list for the 18 /9 hole competition and dinner is on the notice board in the ladies locker room .\n\nThere will be a Prosecco/soft drinks reception at 7.15 followed by dinner with wine/soft/drinks at 8.00. There will be a choice of 3 starters\, 3 main dishes and selection of dessert with tea/coffee. Vegetarian and gluten free option are also available.  The cost including wine is €38.00. This can be paid online or given to any member of the committee. I look forward to seeing you on the day.\n\nJoyce\n\n 
URL:http://saturdaystrollers.ie/event/captains-day-15th-june-2019/
END:VEVENT
END:VCALENDAR