BEGIN:VCALENDAR
VERSION:2.0
PRODID:-//Saturday Strollers - ECPv4.2.6//NONSGML v1.0//EN
CALSCALE:GREGORIAN
METHOD:PUBLISH
X-WR-CALNAME:Saturday Strollers
X-ORIGINAL-URL:http://saturdaystrollers.ie
X-WR-CALDESC:Events for Saturday Strollers
BEGIN:VEVENT
DTSTART;TZID=UTC+0:20190302T121500
DTEND;TZID=UTC+0:20190302T150000
DTSTAMP:20260425T040632
CREATED:20181122T191306
LAST-MODIFIED:20190104T170953
UID:2443-1551528900-1551538800@saturdaystrollers.ie
SUMMARY:Captain's Drive-in
DESCRIPTION:
URL:http://saturdaystrollers.ie/event/captains-drive-in/
END:VEVENT
END:VCALENDAR