BEGIN:VCALENDAR
VERSION:2.0
PRODID:-//Saturday Strollers - ECPv4.2.6//NONSGML v1.0//EN
CALSCALE:GREGORIAN
METHOD:PUBLISH
X-WR-CALNAME:Saturday Strollers
X-ORIGINAL-URL:http://saturdaystrollers.ie
X-WR-CALDESC:Events for Saturday Strollers
BEGIN:VEVENT
DTSTART;TZID=UTC+0:20220528T110000
DTEND;TZID=UTC+0:20220528T160000
DTSTAMP:20260424T191904
CREATED:20220112T113123
LAST-MODIFIED:20220112T113123
UID:4131-1653735600-1653753600@saturdaystrollers.ie
SUMMARY:Charity Day
DESCRIPTION:Our Charity Day is in aid of The Alzheimer Society of Ireland with special emphasis on Dementia supports
URL:http://saturdaystrollers.ie/event/charity-day-2/
END:VEVENT
END:VCALENDAR