BEGIN:VCALENDAR
VERSION:2.0
PRODID:-//Saturday Strollers - ECPv4.2.6//NONSGML v1.0//EN
CALSCALE:GREGORIAN
METHOD:PUBLISH
X-WR-CALNAME:Saturday Strollers
X-ORIGINAL-URL:http://saturdaystrollers.ie
X-WR-CALDESC:Events for Saturday Strollers
BEGIN:VEVENT
DTSTART;TZID=UTC+0:20240427T120000
DTEND;TZID=UTC+0:20240427T150000
DTSTAMP:20260424T163408
CREATED:20240415T120113
LAST-MODIFIED:20240415T120215
UID:5037-1714219200-1714230000@saturdaystrollers.ie
SUMMARY:Charity Day
DESCRIPTION:In aid of Breast Cancer Ireland.  Format is a scramble with a siren start.
URL:http://saturdaystrollers.ie/event/charity-day-3/
END:VEVENT
END:VCALENDAR