BEGIN:VCALENDAR
VERSION:2.0
PRODID:-//Saturday Strollers - ECPv4.2.6//NONSGML v1.0//EN
CALSCALE:GREGORIAN
METHOD:PUBLISH
X-WR-CALNAME:Saturday Strollers
X-ORIGINAL-URL:http://saturdaystrollers.ie
X-WR-CALDESC:Events for Saturday Strollers
BEGIN:VEVENT
DTSTART;TZID=UTC+0:20180512T000000
DTEND;TZID=UTC+0:20180512T140000
DTSTAMP:20260424T233845
CREATED:20151231T151101
LAST-MODIFIED:20180121T175843
UID:182-1526083200-1526133600@saturdaystrollers.ie
SUMMARY:Golfer of the Year (4) Committee Meeting (5)
DESCRIPTION:
URL:http://saturdaystrollers.ie/event/charity-day-in-aid-of-guide-dogs-for-the-blind-team-event-raffle-prize-giving-siren-start/
END:VEVENT
END:VCALENDAR