BEGIN:VCALENDAR
VERSION:2.0
PRODID:-//Saturday Strollers - ECPv4.2.6//NONSGML v1.0//EN
CALSCALE:GREGORIAN
METHOD:PUBLISH
X-WR-CALNAME:Saturday Strollers
X-ORIGINAL-URL:http://saturdaystrollers.ie
X-WR-CALDESC:Events for Saturday Strollers
BEGIN:VEVENT
DTSTART;TZID=UTC+0:20221210T073000
DTEND;TZID=UTC+0:20221210T073000
DTSTAMP:20260424T163839
CREATED:20220112T114657
LAST-MODIFIED:20220112T114657
UID:4177-1670657400-1670657400@saturdaystrollers.ie
SUMMARY:Christmas Party
DESCRIPTION:
URL:http://saturdaystrollers.ie/event/christmas-party/
END:VEVENT
END:VCALENDAR