BEGIN:VCALENDAR
VERSION:2.0
PRODID:-//Saturday Strollers - ECPv4.2.6//NONSGML v1.0//EN
CALSCALE:GREGORIAN
METHOD:PUBLISH
X-WR-CALNAME:Saturday Strollers
X-ORIGINAL-URL:http://saturdaystrollers.ie
X-WR-CALDESC:Events for Saturday Strollers
BEGIN:VEVENT
DTSTART;TZID=UTC+0:20221001T070000
DTEND;TZID=UTC+0:20221001T230000
DTSTAMP:20260424T174856
CREATED:20220112T114031
LAST-MODIFIED:20220112T114031
UID:4153-1664607600-1664665200@saturdaystrollers.ie
SUMMARY:Early Start
DESCRIPTION:
URL:http://saturdaystrollers.ie/event/early-start-2/
END:VEVENT
END:VCALENDAR