BEGIN:VCALENDAR
VERSION:2.0
PRODID:-//Saturday Strollers - ECPv4.2.6//NONSGML v1.0//EN
CALSCALE:GREGORIAN
METHOD:PUBLISH
X-WR-CALNAME:Saturday Strollers
X-ORIGINAL-URL:http://saturdaystrollers.ie
X-WR-CALDESC:Events for Saturday Strollers
BEGIN:VEVENT
DTSTART;TZID=UTC+0:20191207T110000
DTEND;TZID=UTC+0:20191207T140000
DTSTAMP:20260424T230010
CREATED:20190714T164738
LAST-MODIFIED:20190714T164738
UID:3072-1575716400-1575727200@saturdaystrollers.ie
SUMMARY:Golf - Christmas Party
DESCRIPTION:
URL:http://saturdaystrollers.ie/event/golf-christmas-party-3/
END:VEVENT
END:VCALENDAR