BEGIN:VCALENDAR
VERSION:2.0
PRODID:-//Saturday Strollers - ECPv4.2.6//NONSGML v1.0//EN
CALSCALE:GREGORIAN
METHOD:PUBLISH
X-WR-CALNAME:Saturday Strollers
X-ORIGINAL-URL:http://saturdaystrollers.ie
X-WR-CALDESC:Events for Saturday Strollers
BEGIN:VEVENT
DTSTART;TZID=UTC+0:20171209T110000
DTEND;TZID=UTC+0:20171209T140000
DTSTAMP:20260424T145853
CREATED:20160108T214738
LAST-MODIFIED:20161229T000812
UID:276-1512817200-1512828000@saturdaystrollers.ie
SUMMARY:Golf - Christmas Party
DESCRIPTION:
URL:http://saturdaystrollers.ie/event/golf-christmas-party/
END:VEVENT
END:VCALENDAR