BEGIN:VCALENDAR
VERSION:2.0
PRODID:-//Saturday Strollers - ECPv4.2.6//NONSGML v1.0//EN
CALSCALE:GREGORIAN
METHOD:PUBLISH
X-WR-CALNAME:Saturday Strollers
X-ORIGINAL-URL:http://saturdaystrollers.ie
X-WR-CALDESC:Events for Saturday Strollers
BEGIN:VEVENT
DTSTART;TZID=UTC+0:20170930T110000
DTEND;TZID=UTC+0:20170930T140000
DTSTAMP:20260424T174336
CREATED:20160108T212738
LAST-MODIFIED:20161229T001115
UID:262-1506769200-1506780000@saturdaystrollers.ie
SUMMARY:Single Stableford Competition
DESCRIPTION:
URL:http://saturdaystrollers.ie/event/golf-committee-meeting-10/
END:VEVENT
END:VCALENDAR