BEGIN:VCALENDAR
VERSION:2.0
PRODID:-//Saturday Strollers - ECPv4.2.6//NONSGML v1.0//EN
CALSCALE:GREGORIAN
METHOD:PUBLISH
X-WR-CALNAME:Saturday Strollers
X-ORIGINAL-URL:http://saturdaystrollers.ie
X-WR-CALDESC:Events for Saturday Strollers
BEGIN:VEVENT
DTSTART;TZID=UTC+0:20171104T110000
DTEND;TZID=UTC+0:20171104T140000
DTSTAMP:20260424T150601
CREATED:20160108T213944
LAST-MODIFIED:20161228T235746
UID:270-1509793200-1509804000@saturdaystrollers.ie
SUMMARY:Golf - Committee Meeting (11) - Turkey Competition (4)
DESCRIPTION:
URL:http://saturdaystrollers.ie/event/golf-committee-meeting-11-turkey-competition-3/
END:VEVENT
END:VCALENDAR