BEGIN:VCALENDAR
VERSION:2.0
PRODID:-//Saturday Strollers - ECPv4.2.6//NONSGML v1.0//EN
CALSCALE:GREGORIAN
METHOD:PUBLISH
X-WR-CALNAME:Saturday Strollers
X-ORIGINAL-URL:http://saturdaystrollers.ie
X-WR-CALDESC:Events for Saturday Strollers
BEGIN:VEVENT
DTSTART;TZID=UTC+0:20180505T110000
DTEND;TZID=UTC+0:20180505T140000
DTSTAMP:20260424T222609
CREATED:20151231T150644
LAST-MODIFIED:20180101T154800
UID:181-1525518000-1525528800@saturdaystrollers.ie
SUMMARY:Single Stableford
DESCRIPTION:
URL:http://saturdaystrollers.ie/event/golf-committee-meeting-5/
END:VEVENT
END:VCALENDAR