BEGIN:VCALENDAR
VERSION:2.0
PRODID:-//Saturday Strollers - ECPv4.2.6//NONSGML v1.0//EN
CALSCALE:GREGORIAN
METHOD:PUBLISH
X-WR-CALNAME:Saturday Strollers
X-ORIGINAL-URL:http://saturdaystrollers.ie
X-WR-CALDESC:Events for Saturday Strollers
BEGIN:VEVENT
DTSTART;TZID=UTC+0:20190706T110000
DTEND;TZID=UTC+0:20190706T140000
DTSTAMP:20260425T012719
CREATED:20190428T175052
LAST-MODIFIED:20190428T175055
UID:2742-1562410800-1562421600@saturdaystrollers.ie
SUMMARY:Golf - Committee Meeting (7)
DESCRIPTION:
URL:http://saturdaystrollers.ie/event/golf-committee-meeting-7/
END:VEVENT
END:VCALENDAR