BEGIN:VCALENDAR
VERSION:2.0
PRODID:-//Saturday Strollers - ECPv4.2.6//NONSGML v1.0//EN
CALSCALE:GREGORIAN
METHOD:PUBLISH
X-WR-CALNAME:Saturday Strollers
X-ORIGINAL-URL:http://saturdaystrollers.ie
X-WR-CALDESC:Events for Saturday Strollers
BEGIN:VEVENT
DTSTART;TZID=UTC+0:20170826T110000
DTEND;TZID=UTC+0:20170826T140000
DTSTAMP:20260424T233727
CREATED:20160102T184417
LAST-MODIFIED:20161228T233726
UID:225-1503745200-1503756000@saturdaystrollers.ie
SUMMARY:Single Stableford Competition - Committee Meeting (8)
DESCRIPTION:
URL:http://saturdaystrollers.ie/event/golf-committee-meeting-9/
END:VEVENT
END:VCALENDAR