BEGIN:VCALENDAR
VERSION:2.0
PRODID:-//Saturday Strollers - ECPv4.2.6//NONSGML v1.0//EN
CALSCALE:GREGORIAN
METHOD:PUBLISH
X-WR-CALNAME:Saturday Strollers
X-ORIGINAL-URL:http://saturdaystrollers.ie
X-WR-CALDESC:Events for Saturday Strollers
BEGIN:VEVENT
DTSTART;TZID=UTC+0:20190713T110000
DTEND;TZID=UTC+0:20190713T140000
DTSTAMP:20260425T013342
CREATED:20190428T175345
LAST-MODIFIED:20190428T175353
UID:2747-1563015600-1563026400@saturdaystrollers.ie
SUMMARY:Golf - Golfer of the Year (7)
DESCRIPTION:
URL:http://saturdaystrollers.ie/event/golf-golfer-of-the-year-7-3/
END:VEVENT
END:VCALENDAR