BEGIN:VCALENDAR
VERSION:2.0
PRODID:-//Saturday Strollers - ECPv4.2.6//NONSGML v1.0//EN
CALSCALE:GREGORIAN
METHOD:PUBLISH
X-WR-CALNAME:Saturday Strollers
X-ORIGINAL-URL:http://saturdaystrollers.ie
X-WR-CALDESC:Events for Saturday Strollers
BEGIN:VEVENT
DTSTART;TZID=UTC+0:20191130T110000
DTEND;TZID=UTC+0:20191130T140000
DTSTAMP:20260424T230025
CREATED:20190714T164637
LAST-MODIFIED:20190714T164637
UID:3070-1575111600-1575122400@saturdaystrollers.ie
SUMMARY:Golf - Mulled Wine and Mince Pies
DESCRIPTION:
URL:http://saturdaystrollers.ie/event/golf-mulled-wine-and-mince-pies-2/
END:VEVENT
END:VCALENDAR