BEGIN:VCALENDAR
VERSION:2.0
PRODID:-//Saturday Strollers - ECPv4.2.6//NONSGML v1.0//EN
CALSCALE:GREGORIAN
METHOD:PUBLISH
X-WR-CALNAME:Saturday Strollers
X-ORIGINAL-URL:http://saturdaystrollers.ie
X-WR-CALDESC:Events for Saturday Strollers
BEGIN:VEVENT
DTSTART;TZID=UTC+0:20171202T001500
DTEND;TZID=UTC+0:20171202T143000
DTSTAMP:20260424T150602
CREATED:20160108T214641
LAST-MODIFIED:20161229T000654
UID:275-1512173700-1512225000@saturdaystrollers.ie
SUMMARY:Golf - Mulled wine and mince pies - (Siren Start)
DESCRIPTION:
URL:http://saturdaystrollers.ie/event/golf-mulled-wine-and-mince-pies-siren-start/
END:VEVENT
END:VCALENDAR