BEGIN:VCALENDAR
VERSION:2.0
PRODID:-//Saturday Strollers - ECPv4.2.6//NONSGML v1.0//EN
CALSCALE:GREGORIAN
METHOD:PUBLISH
X-WR-CALNAME:Saturday Strollers
X-ORIGINAL-URL:http://saturdaystrollers.ie
X-WR-CALDESC:Events for Saturday Strollers
BEGIN:VEVENT
DTSTART;TZID=UTC+0:20190831T110000
DTEND;TZID=UTC+0:20190831T140000
DTSTAMP:20260425T013208
CREATED:20190521T080401
LAST-MODIFIED:20190521T080815
UID:2803-1567249200-1567260000@saturdaystrollers.ie
SUMMARY:Golf - President's Day (18 & 9 Hole Competition)
DESCRIPTION:
URL:http://saturdaystrollers.ie/event/golf-presidents-day-18-9-hole-competition/
END:VEVENT
END:VCALENDAR