BEGIN:VCALENDAR
VERSION:2.0
PRODID:-//Saturday Strollers - ECPv4.2.6//NONSGML v1.0//EN
CALSCALE:GREGORIAN
METHOD:PUBLISH
X-WR-CALNAME:Saturday Strollers
X-ORIGINAL-URL:http://saturdaystrollers.ie
X-WR-CALDESC:Events for Saturday Strollers
BEGIN:VEVENT
DTSTART;TZID=UTC+0:20190525T110000
DTEND;TZID=UTC+0:20190525T140000
DTSTAMP:20260425T023512
CREATED:20190428T144008
LAST-MODIFIED:20190428T144008
UID:2729-1558782000-1558792800@saturdaystrollers.ie
SUMMARY:Golf - Single Stableford
DESCRIPTION:
URL:http://saturdaystrollers.ie/event/golf-single-stableford-2/
END:VEVENT
END:VCALENDAR