BEGIN:VCALENDAR
VERSION:2.0
PRODID:-//Saturday Strollers - ECPv4.2.6//NONSGML v1.0//EN
CALSCALE:GREGORIAN
METHOD:PUBLISH
X-WR-CALNAME:Saturday Strollers
X-ORIGINAL-URL:http://saturdaystrollers.ie
X-WR-CALDESC:Events for Saturday Strollers
BEGIN:VEVENT
DTSTART;TZID=UTC+0:20190309T110000
DTEND;TZID=UTC+0:20190309T140000
DTSTAMP:20260425T040946
CREATED:20181122T191516
LAST-MODIFIED:20190104T170902
UID:2445-1552129200-1552140000@saturdaystrollers.ie
SUMMARY:Golf - Spring Lamb (4) Committee Meeting (3)
DESCRIPTION:
URL:http://saturdaystrollers.ie/event/golf-spring-lamb-4-shamrock-special-3-prizes-in-each-catagory-committee-meeting3/
END:VEVENT
END:VCALENDAR