BEGIN:VCALENDAR
VERSION:2.0
PRODID:-//Saturday Strollers - ECPv4.2.6//NONSGML v1.0//EN
CALSCALE:GREGORIAN
METHOD:PUBLISH
X-WR-CALNAME:Saturday Strollers
X-ORIGINAL-URL:http://saturdaystrollers.ie
X-WR-CALDESC:Events for Saturday Strollers
BEGIN:VEVENT
DTSTART;TZID=UTC+0:20191102T110000
DTEND;TZID=UTC+0:20191102T140000
DTSTAMP:20260425T001914
CREATED:20190714T163310
LAST-MODIFIED:20190714T163415
UID:3053-1572692400-1572703200@saturdaystrollers.ie
SUMMARY:Golf - Turkey Competition (2) Committee Meeting (10)
DESCRIPTION:
URL:http://saturdaystrollers.ie/event/golf-turkey-competition-2-committee-meeting-10-2/
END:VEVENT
END:VCALENDAR