BEGIN:VCALENDAR
VERSION:2.0
PRODID:-//Saturday Strollers - ECPv4.2.6//NONSGML v1.0//EN
CALSCALE:GREGORIAN
METHOD:PUBLISH
X-WR-CALNAME:Saturday Strollers
X-ORIGINAL-URL:http://saturdaystrollers.ie
X-WR-CALDESC:Events for Saturday Strollers
BEGIN:VEVENT
DTSTART;TZID=UTC+0:20191109T110000
DTEND;TZID=UTC+0:20191109T140000
DTSTAMP:20260425T000800
CREATED:20190714T163901
LAST-MODIFIED:20190714T163901
UID:3060-1573297200-1573308000@saturdaystrollers.ie
SUMMARY:Golf - Turkey Competition (3)
DESCRIPTION:
URL:http://saturdaystrollers.ie/event/golf-turkey-competition-3-2/
END:VEVENT
END:VCALENDAR