BEGIN:VCALENDAR
VERSION:2.0
PRODID:-//Saturday Strollers - ECPv4.2.6//NONSGML v1.0//EN
CALSCALE:GREGORIAN
METHOD:PUBLISH
X-WR-CALNAME:Saturday Strollers
X-ORIGINAL-URL:http://saturdaystrollers.ie
X-WR-CALDESC:Events for Saturday Strollers
BEGIN:VEVENT
DTSTART;TZID=UTC+0:20191116T110000
DTEND;TZID=UTC+0:20191116T140000
DTSTAMP:20260424T225830
CREATED:20190714T164421
LAST-MODIFIED:20190714T164421
UID:3066-1573902000-1573912800@saturdaystrollers.ie
SUMMARY:Golf - Turkey Competition (4)
DESCRIPTION:
URL:http://saturdaystrollers.ie/event/golf-turkey-competition-4-3/
END:VEVENT
END:VCALENDAR