BEGIN:VCALENDAR
VERSION:2.0
PRODID:-//Saturday Strollers - ECPv4.2.6//NONSGML v1.0//EN
CALSCALE:GREGORIAN
METHOD:PUBLISH
X-WR-CALNAME:Saturday Strollers
X-ORIGINAL-URL:http://saturdaystrollers.ie
X-WR-CALDESC:Events for Saturday Strollers
BEGIN:VEVENT
DTSTART;TZID=UTC+0:20220409T110000
DTEND;TZID=UTC+0:20220409T160000
DTSTAMP:20260424T191936
CREATED:20220112T112629
LAST-MODIFIED:20220112T112629
UID:4123-1649502000-1649520000@saturdaystrollers.ie
SUMMARY:Golfer of the Year (2)
DESCRIPTION:
URL:http://saturdaystrollers.ie/event/golfer-of-the-year-2/
END:VEVENT
END:VCALENDAR