BEGIN:VCALENDAR
VERSION:2.0
PRODID:-//Saturday Strollers - ECPv4.2.6//NONSGML v1.0//EN
CALSCALE:GREGORIAN
METHOD:PUBLISH
X-WR-CALNAME:Saturday Strollers
X-ORIGINAL-URL:http://saturdaystrollers.ie
X-WR-CALDESC:Events for Saturday Strollers
BEGIN:VEVENT
DTSTART;TZID=UTC+0:20180519T123000
DTEND;TZID=UTC+0:20180519T143000
DTSTAMP:20260425T004758
CREATED:20151231T151223
LAST-MODIFIED:20180514T084515
UID:183-1526733000-1526740200@saturdaystrollers.ie
SUMMARY:Charity Day - Team Event (Raffle and Prize Giving) Siren Start @12:30  - Assemble at 12noon
DESCRIPTION:
URL:http://saturdaystrollers.ie/event/golfer-of-the-year-5/
END:VEVENT
END:VCALENDAR