BEGIN:VCALENDAR
VERSION:2.0
PRODID:-//Saturday Strollers - ECPv4.2.6//NONSGML v1.0//EN
CALSCALE:GREGORIAN
METHOD:PUBLISH
X-WR-CALNAME:Saturday Strollers
X-ORIGINAL-URL:http://saturdaystrollers.ie
X-WR-CALDESC:Events for Saturday Strollers
BEGIN:VEVENT
DTSTART;TZID=UTC+0:20220813T110000
DTEND;TZID=UTC+0:20220813T160000
DTSTAMP:20260424T180653
CREATED:20220112T113632
LAST-MODIFIED:20220112T113632
UID:4143-1660388400-1660406400@saturdaystrollers.ie
SUMMARY:Golfer of the Year (6)
DESCRIPTION:
URL:http://saturdaystrollers.ie/event/golfer-of-the-year-6/
END:VEVENT
END:VCALENDAR