BEGIN:VCALENDAR
VERSION:2.0
PRODID:-//Saturday Strollers - ECPv4.2.6//NONSGML v1.0//EN
CALSCALE:GREGORIAN
METHOD:PUBLISH
X-WR-CALNAME:Saturday Strollers
X-ORIGINAL-URL:http://saturdaystrollers.ie
X-WR-CALDESC:Events for Saturday Strollers
BEGIN:VEVENT
DTSTART;TZID=UTC+0:20171028T110000
DTEND;TZID=UTC+0:20171028T140000
DTSTAMP:20260424T133421
CREATED:20160108T213653
LAST-MODIFIED:20161228T235618
UID:269-1509188400-1509199200@saturdaystrollers.ie
SUMMARY:Leopardstown closed for racing - Away Day
DESCRIPTION:
URL:http://saturdaystrollers.ie/event/leopardstown-closed-for-racing-away-day-2/
END:VEVENT
END:VCALENDAR