BEGIN:VCALENDAR
VERSION:2.0
PRODID:-//Saturday Strollers - ECPv4.2.6//NONSGML v1.0//EN
CALSCALE:GREGORIAN
METHOD:PUBLISH
X-WR-CALNAME:Saturday Strollers
X-ORIGINAL-URL:http://saturdaystrollers.ie
X-WR-CALDESC:Events for Saturday Strollers
BEGIN:VEVENT
DTSTART;VALUE=DATE:20200201
DTEND;VALUE=DATE:20200201
DTSTAMP:20260425T001952
CREATED:20200104
LAST-MODIFIED:20200104
UID:3512-1580515200-1580601599@saturdaystrollers.ie
SUMMARY:NO GOLF - Leopardstown Closed
DESCRIPTION:
URL:http://saturdaystrollers.ie/event/no-golf-leopardstown-closed-3/
END:VEVENT
END:VCALENDAR