BEGIN:VCALENDAR
VERSION:2.0
PRODID:-//Saturday Strollers - ECPv4.2.6//NONSGML v1.0//EN
CALSCALE:GREGORIAN
METHOD:PUBLISH
X-WR-CALNAME:Saturday Strollers
X-ORIGINAL-URL:http://saturdaystrollers.ie
X-WR-CALDESC:Events for Saturday Strollers
BEGIN:VEVENT
DTSTART;TZID=UTC+0:20220205T110000
DTEND;TZID=UTC+0:20220205T160000
DTSTAMP:20260424T203020
CREATED:20220107T113311
LAST-MODIFIED:20220107T113311
UID:4103-1644058800-1644076800@saturdaystrollers.ie
SUMMARY:No Golf - Leopardstown CLOSED for racing
DESCRIPTION:
URL:http://saturdaystrollers.ie/event/no-golf-leopardstown-closed-for-racing-2/
END:VEVENT
END:VCALENDAR