BEGIN:VCALENDAR
VERSION:2.0
PRODID:-//Saturday Strollers - ECPv4.2.6//NONSGML v1.0//EN
CALSCALE:GREGORIAN
METHOD:PUBLISH
X-WR-CALNAME:Saturday Strollers
X-ORIGINAL-URL:http://saturdaystrollers.ie
X-WR-CALDESC:Events for Saturday Strollers
BEGIN:VEVENT
DTSTART;TZID=UTC+0:20180203T111000
DTEND;TZID=UTC+0:20180203T140000
DTSTAMP:20260424T211233
CREATED:20151230T185620
LAST-MODIFIED:20171218T212837
UID:178-1517656200-1517666400@saturdaystrollers.ie
SUMMARY:Racing in Leopardstown
DESCRIPTION:
URL:http://saturdaystrollers.ie/event/no-golf-racing-in-leopardstown-away-day/
END:VEVENT
END:VCALENDAR