BEGIN:VCALENDAR
VERSION:2.0
PRODID:-//Saturday Strollers - ECPv4.2.6//NONSGML v1.0//EN
CALSCALE:GREGORIAN
METHOD:PUBLISH
X-WR-CALNAME:Saturday Strollers
X-ORIGINAL-URL:http://saturdaystrollers.ie
X-WR-CALDESC:Events for Saturday Strollers
BEGIN:VEVENT
DTSTART;TZID=UTC+0:20170902T110000
DTEND;TZID=UTC+0:20170902T173000
DTSTAMP:20260424T224455
CREATED:20160108T203026
LAST-MODIFIED:20161228T233844
UID:256-1504350000-1504373400@saturdaystrollers.ie
SUMMARY:President's Day-9 and 18 Hole Competition
DESCRIPTION:
URL:http://saturdaystrollers.ie/event/presidents-day-9-and-18-hole-competition-dinner/
END:VEVENT
END:VCALENDAR