BEGIN:VCALENDAR
VERSION:2.0
PRODID:-//Saturday Strollers - ECPv4.2.6//NONSGML v1.0//EN
CALSCALE:GREGORIAN
METHOD:PUBLISH
X-WR-CALNAME:Saturday Strollers
X-ORIGINAL-URL:http://saturdaystrollers.ie
X-WR-CALDESC:Events for Saturday Strollers
BEGIN:VEVENT
DTSTART;TZID=UTC+0:20190316T110000
DTEND;TZID=UTC+0:20190316T140000
DTSTAMP:20260425T040611
CREATED:20181122T191548
LAST-MODIFIED:20190104T170652
UID:2447-1552734000-1552744800@saturdaystrollers.ie
SUMMARY:Single Stableford - Shamrock Special\, 3 prizes in each category
DESCRIPTION:
URL:http://saturdaystrollers.ie/event/single-stableford-15/
END:VEVENT
END:VCALENDAR