BEGIN:VCALENDAR
VERSION:2.0
PRODID:-//Saturday Strollers - ECPv4.2.6//NONSGML v1.0//EN
CALSCALE:GREGORIAN
METHOD:PUBLISH
X-WR-CALNAME:Saturday Strollers
X-ORIGINAL-URL:http://saturdaystrollers.ie
X-WR-CALDESC:Events for Saturday Strollers
BEGIN:VEVENT
DTSTART;TZID=UTC+0:20180804T080000
DTEND;TZID=UTC+0:20180804T140000
DTSTAMP:20260424T172730
CREATED:20180121T185451
LAST-MODIFIED:20180121T185456
UID:1739-1533369600-1533391200@saturdaystrollers.ie
SUMMARY:Single Stableford
DESCRIPTION:
URL:http://saturdaystrollers.ie/event/single-stableford-2/
END:VEVENT
END:VCALENDAR