BEGIN:VCALENDAR
VERSION:2.0
PRODID:-//Saturday Strollers - ECPv4.2.6//NONSGML v1.0//EN
CALSCALE:GREGORIAN
METHOD:PUBLISH
X-WR-CALNAME:Saturday Strollers
X-ORIGINAL-URL:http://saturdaystrollers.ie
X-WR-CALDESC:Events for Saturday Strollers
BEGIN:VEVENT
DTSTART;TZID=UTC+0:20190928T110000
DTEND;TZID=UTC+0:20190928T140000
DTSTAMP:20260425T000840
CREATED:20190521T080645
LAST-MODIFIED:20190714T163610
UID:2811-1569668400-1569679200@saturdaystrollers.ie
SUMMARY:Single Stableford - Committee Meeting (9)
DESCRIPTION:
URL:http://saturdaystrollers.ie/event/single-stableford-21/
END:VEVENT
END:VCALENDAR