BEGIN:VCALENDAR
VERSION:2.0
PRODID:-//Saturday Strollers - ECPv4.2.6//NONSGML v1.0//EN
CALSCALE:GREGORIAN
METHOD:PUBLISH
X-WR-CALNAME:Saturday Strollers
X-ORIGINAL-URL:http://saturdaystrollers.ie
X-WR-CALDESC:Events for Saturday Strollers
BEGIN:VEVENT
DTSTART;TZID=UTC+0:20200328T110000
DTEND;TZID=UTC+0:20200328T140000
DTSTAMP:20260424T214849
CREATED:20200109T124834
LAST-MODIFIED:20200319T150953
UID:3536-1585393200-1585404000@saturdaystrollers.ie
SUMMARY:NO COMPETITION  - FRIENDLY GOLF
DESCRIPTION:
URL:http://saturdaystrollers.ie/event/single-stableford-22/
END:VEVENT
END:VCALENDAR