BEGIN:VCALENDAR
VERSION:2.0
PRODID:-//Saturday Strollers - ECPv4.2.6//NONSGML v1.0//EN
CALSCALE:GREGORIAN
METHOD:PUBLISH
X-WR-CALNAME:Saturday Strollers
X-ORIGINAL-URL:http://saturdaystrollers.ie
X-WR-CALDESC:Events for Saturday Strollers
BEGIN:VEVENT
DTSTART;TZID=UTC+0:20180428T110000
DTEND;TZID=UTC+0:20180428T140000
DTSTAMP:20260424T222442
CREATED:20151230T184137
LAST-MODIFIED:20180422T180635
UID:175-1524913200-1524924000@saturdaystrollers.ie
SUMMARY:Golfer of the Year (3) Ping Competition
DESCRIPTION:
URL:http://saturdaystrollers.ie/event/single-stableford-8/
END:VEVENT
END:VCALENDAR