BEGIN:VCALENDAR
VERSION:2.0
PRODID:-//Saturday Strollers - ECPv4.2.6//NONSGML v1.0//EN
CALSCALE:GREGORIAN
METHOD:PUBLISH
X-WR-CALNAME:Saturday Strollers
X-ORIGINAL-URL:http://saturdaystrollers.ie
X-WR-CALDESC:Events for Saturday Strollers
BEGIN:VEVENT
DTSTART;TZID=UTC+0:20200104T110000
DTEND;TZID=UTC+0:20200104T140000
DTSTAMP:20260424T225733
CREATED:20191230T163906
LAST-MODIFIED:20191230T164203
UID:3475-1578135600-1578146400@saturdaystrollers.ie
SUMMARY:Single Stableford Competition
DESCRIPTION:
URL:http://saturdaystrollers.ie/event/single-stableford-competition/
END:VEVENT
END:VCALENDAR