BEGIN:VCALENDAR
VERSION:2.0
PRODID:-//Saturday Strollers - ECPv4.2.6//NONSGML v1.0//EN
CALSCALE:GREGORIAN
METHOD:PUBLISH
X-WR-CALNAME:Saturday Strollers
X-ORIGINAL-URL:http://saturdaystrollers.ie
X-WR-CALDESC:Events for Saturday Strollers
BEGIN:VEVENT
DTSTART;TZID=UTC+0:20171007T080000
DTEND;TZID=UTC+0:20171007T223000
DTSTAMP:20260424T161942
CREATED:20160108T213252
LAST-MODIFIED:20161228T235318
UID:266-1507363200-1507415400@saturdaystrollers.ie
SUMMARY:Turkey Competition (1)- early start
DESCRIPTION:
URL:http://saturdaystrollers.ie/event/single-stableford-early-start-2/
END:VEVENT
END:VCALENDAR