BEGIN:VCALENDAR
VERSION:2.0
PRODID:-//Saturday Strollers - ECPv4.2.6//NONSGML v1.0//EN
CALSCALE:GREGORIAN
METHOD:PUBLISH
X-WR-CALNAME:Saturday Strollers
X-ORIGINAL-URL:http://saturdaystrollers.ie
X-WR-CALDESC:Events for Saturday Strollers
BEGIN:VEVENT
DTSTART;TZID=UTC+0:20180113T110000
DTEND;TZID=UTC+0:20180113T140000
DTSTAMP:20260424T172804
CREATED:20160108T213037
LAST-MODIFIED:20171218T212347
UID:264-1515841200-1515852000@saturdaystrollers.ie
SUMMARY:Single Stableford
DESCRIPTION:
URL:http://saturdaystrollers.ie/event/single-stableford-early-start/
END:VEVENT
END:VCALENDAR