BEGIN:VCALENDAR
VERSION:2.0
PRODID:-//Saturday Strollers - ECPv4.2.6//NONSGML v1.0//EN
CALSCALE:GREGORIAN
METHOD:PUBLISH
X-WR-CALNAME:Saturday Strollers
X-ORIGINAL-URL:http://saturdaystrollers.ie
X-WR-CALDESC:Events for Saturday Strollers
BEGIN:VEVENT
DTSTART;TZID=UTC+0:20200314T110000
DTEND;TZID=UTC+0:20200314T140000
DTSTAMP:20260424T214958
CREATED:20200109T124441
LAST-MODIFIED:20200109T124441
UID:3532-1584183600-1584194400@saturdaystrollers.ie
SUMMARY:Single Stableford - Shamrock Special (3 prizes in each category)
DESCRIPTION:
URL:http://saturdaystrollers.ie/event/single-stableford-shamrock-special-3-prizes-in-each-category/
END:VEVENT
END:VCALENDAR