BEGIN:VCALENDAR
VERSION:2.0
PRODID:-//Saturday Strollers - ECPv4.2.6//NONSGML v1.0//EN
CALSCALE:GREGORIAN
METHOD:PUBLISH
X-WR-CALNAME:Saturday Strollers
X-ORIGINAL-URL:http://saturdaystrollers.ie
X-WR-CALDESC:Events for Saturday Strollers
BEGIN:VEVENT
DTSTART;TZID=UTC+0:20200307T110000
DTEND;TZID=UTC+0:20200307T140000
DTSTAMP:20260424T214958
CREATED:20200109T124307
LAST-MODIFIED:20200302T202521
UID:3529-1583578800-1583589600@saturdaystrollers.ie
SUMMARY:Single Stableford - Spring Lamb (2)
DESCRIPTION:
URL:http://saturdaystrollers.ie/event/single-stableford-spring-lamb-4-committee-meeting-2/
END:VEVENT
END:VCALENDAR