BEGIN:VCALENDAR
VERSION:2.0
PRODID:-//Saturday Strollers - ECPv4.2.6//NONSGML v1.0//EN
CALSCALE:GREGORIAN
METHOD:PUBLISH
X-WR-CALNAME:Saturday Strollers
X-ORIGINAL-URL:http://saturdaystrollers.ie
X-WR-CALDESC:Events for Saturday Strollers
BEGIN:VEVENT
DTSTART;TZID=UTC+0:20220326T110000
DTEND;TZID=UTC+0:20220326T160000
DTSTAMP:20260424T202940
CREATED:20220110T160056
LAST-MODIFIED:20220110T160056
UID:4119-1648292400-1648310400@saturdaystrollers.ie
SUMMARY:Spring Lamb Competition (4)
DESCRIPTION:
URL:http://saturdaystrollers.ie/event/spring-lamb-competition-4/
END:VEVENT
END:VCALENDAR