BEGIN:VCALENDAR
VERSION:2.0
PRODID:-//Saturday Strollers - ECPv4.2.6//NONSGML v1.0//EN
CALSCALE:GREGORIAN
METHOD:PUBLISH
X-WR-CALNAME:Saturday Strollers
X-ORIGINAL-URL:http://saturdaystrollers.ie
X-WR-CALDESC:Events for Saturday Strollers
BEGIN:VEVENT
DTSTART;TZID=UTC+0:20221105T110000
DTEND;TZID=UTC+0:20221105T160000
DTSTAMP:20260424T163055
CREATED:20220112T114315
LAST-MODIFIED:20220112T114315
UID:4163-1667646000-1667664000@saturdaystrollers.ie
SUMMARY:Turkey Competition (2)
DESCRIPTION:
URL:http://saturdaystrollers.ie/event/turkey-competition-2/
END:VEVENT
END:VCALENDAR