BEGIN:VCALENDAR
VERSION:2.0
PRODID:-//Saturday Strollers - ECPv4.2.6//NONSGML v1.0//EN
CALSCALE:GREGORIAN
METHOD:PUBLISH
X-WR-CALNAME:Saturday Strollers
X-ORIGINAL-URL:http://saturdaystrollers.ie
X-WR-CALDESC:Events for Saturday Strollers
BEGIN:VEVENT
DTSTART;TZID=UTC+0:20221119T110000
DTEND;TZID=UTC+0:20221119T160000
DTSTAMP:20260424T163127
CREATED:20220112T114412
LAST-MODIFIED:20220112T114412
UID:4167-1668855600-1668873600@saturdaystrollers.ie
SUMMARY:Turkey Competition (4)
DESCRIPTION:
URL:http://saturdaystrollers.ie/event/turkey-competition-4/
END:VEVENT
END:VCALENDAR