BEGIN:VCALENDAR
VERSION:2.0
PRODID:-//Saturday Strollers - ECPv4.2.6//NONSGML v1.0//EN
CALSCALE:GREGORIAN
METHOD:PUBLISH
X-WR-CALNAME:Saturday Strollers
X-ORIGINAL-URL:http://saturdaystrollers.ie
X-WR-CALDESC:Events for Saturday Strollers
BEGIN:VEVENT
DTSTART;TZID=UTC+0:20190914T080000
DTEND;TZID=UTC+0:20190914T170000
DTSTAMP:20260425T001554
CREATED:20190521T080530
LAST-MODIFIED:20190521T080530
UID:2807-1568448000-1568480400@saturdaystrollers.ie
SUMMARY:Weekend Away - Leopardstown closed for racing
DESCRIPTION:
URL:http://saturdaystrollers.ie/event/weekend-away-leopardstown-closed-for-racing/
END:VEVENT
END:VCALENDAR