BEGIN:VCALENDAR
VERSION:2.0
PRODID:-//Saturday Strollers - ECPv4.2.6//NONSGML v1.0//EN
CALSCALE:GREGORIAN
METHOD:PUBLISH
X-WR-CALNAME:Saturday Strollers
X-ORIGINAL-URL:http://saturdaystrollers.ie
X-WR-CALDESC:Events for Saturday Strollers
BEGIN:VEVENT
DTSTART;TZID=UTC+0:20220108T110000
DTEND;TZID=UTC+0:20220108T160000
DTSTAMP:20260424T203020
CREATED:20220107T113359
LAST-MODIFIED:20220107T113359
UID:4105-1641639600-1641657600@saturdaystrollers.ie
SUMMARY:Welcome back to Golf
DESCRIPTION:
URL:http://saturdaystrollers.ie/event/welcome-back-to-golf/
END:VEVENT
END:VCALENDAR